BEGIN:VCALENDAR
VERSION:2.0
PRODID:-//Carrick Aland - ECPv5.4.0//NONSGML v1.0//EN
CALSCALE:GREGORIAN
METHOD:PUBLISH
X-WR-CALNAME:Carrick Aland
X-ORIGINAL-URL:https://www.carrickaland.com.au
X-WR-CALDESC:Events for Carrick Aland
BEGIN:VTIMEZONE
TZID:Australia/Brisbane
BEGIN:STANDARD
TZOFFSETFROM:+1000
TZOFFSETTO:+1000
TZNAME:AEST
DTSTART:20210101T000000
END:STANDARD
END:VTIMEZONE
BEGIN:VEVENT
DTSTART;VALUE=DATE:20210301
DTEND;VALUE=DATE:20210302
DTSTAMP:20210227T224117
CREATED:20201202T221553Z
LAST-MODIFIED:20201202T221553Z
UID:6772-1614556800-1614643199@www.carrickaland.com.au
SUMMARY:December quarter SG charge statement due
DESCRIPTION:You must lodge and pay the super guarantee charge (SGC) statement today if you did not make your December quarter super guarantee payments by the due date.
URL:https://www.carrickaland.com.au/event/december-quarter-sg-charge-statement-due/
END:VEVENT
BEGIN:VEVENT
DTSTART;VALUE=DATE:20210301
DTEND;VALUE=DATE:20210302
DTSTAMP:20210227T224117
CREATED:20201202T221628Z
LAST-MODIFIED:20201202T221628Z
UID:6774-1614556800-1614643199@www.carrickaland.com.au
SUMMARY:December quarterly BAS due
DESCRIPTION:You need to lodge and pay by today. If you think you will have difficulty paying\, contact us to work out a payment plan.
URL:https://www.carrickaland.com.au/event/december-quarterly-bas-due-3/
END:VEVENT
BEGIN:VEVENT
DTSTART;VALUE=DATE:20210301
DTEND;VALUE=DATE:20210302
DTSTAMP:20210227T224117
CREATED:20201202T221700Z
LAST-MODIFIED:20201202T221700Z
UID:6776-1614556800-1614643199@www.carrickaland.com.au
SUMMARY:December quarter PAYG instalment due
DESCRIPTION:You need to pay your instalment amount for the December quarter by today. If you receive an activity statement or are varying the instalment amount you may also need to lodge by today.
URL:https://www.carrickaland.com.au/event/december-quarter-payg-instalment-due-3/
END:VEVENT
BEGIN:VEVENT
DTSTART;VALUE=DATE:20210302
DTEND;VALUE=DATE:20210303
DTSTAMP:20210227T224117
CREATED:20210223T015229Z
LAST-MODIFIED:20210223T015438Z
UID:6905-1614643200-1614729599@www.carrickaland.com.au
SUMMARY:Quarterly PAYG instalments due
DESCRIPTION:If you use the ATO’s online services\, log into your account to view\, vary or pay your instalment amount or speak with Carrick Aland as your registered tax or BAS agent.
URL:https://www.carrickaland.com.au/event/quarterly-payg-instalments-due/
END:VEVENT
BEGIN:VEVENT
DTSTART;VALUE=DATE:20210303
DTEND;VALUE=DATE:20210304
DTSTAMP:20210227T224117
CREATED:20210219T023033Z
LAST-MODIFIED:20210219T025755Z
UID:6887-1614729600-1614815999@www.carrickaland.com.au
SUMMARY:FREE EVENT Rural Succession Planning Workshop
DESCRIPTION:Carrick Aland Managing Partner and rural Succession Specialist\, Wayne Turner\, will be speaking at a free Rural Financial Counselling Service event on 3 March 2021 in Clifton: \nRural Succession Planning Workshop
URL:https://www.carrickaland.com.au/event/free-event-rural-succession-planning-workshop/
END:VEVENT
BEGIN:VEVENT
DTSTART;VALUE=DATE:20210322
DTEND;VALUE=DATE:20210323
DTSTAMP:20210227T224117
CREATED:20201202T221734Z
LAST-MODIFIED:20210202T053734Z
UID:6778-1616371200-1616457599@www.carrickaland.com.au
SUMMARY:February monthly BAS due
DESCRIPTION:You need to lodge and pay by today. If you think you will have difficulty paying\, contact us to work out a payment plan.
URL:https://www.carrickaland.com.au/event/february-monthly-bas-due-3/
END:VEVENT
BEGIN:VEVENT
DTSTART;VALUE=DATE:20210328
DTEND;VALUE=DATE:20210329
DTSTAMP:20210227T224117
CREATED:20210202T053827Z
LAST-MODIFIED:20210202T053827Z
UID:6828-1616889600-1616975999@www.carrickaland.com.au
SUMMARY:JobKeeper Payment extension 2 finishes
DESCRIPTION:
URL:https://www.carrickaland.com.au/event/jobkeeper-payment-extension-2-finishes/
END:VEVENT
BEGIN:VEVENT
DTSTART;VALUE=DATE:20210421
DTEND;VALUE=DATE:20210422
DTSTAMP:20210227T224117
CREATED:20210202T053929Z
LAST-MODIFIED:20210202T053929Z
UID:6830-1618963200-1619049599@www.carrickaland.com.au
SUMMARY:March monthly BAS due
DESCRIPTION:
URL:https://www.carrickaland.com.au/event/march-monthly-bas-due-3/
END:VEVENT
BEGIN:VEVENT
DTSTART;VALUE=DATE:20210428
DTEND;VALUE=DATE:20210429
DTSTAMP:20210227T224117
CREATED:20210202T054001Z
LAST-MODIFIED:20210202T054001Z
UID:6832-1619568000-1619654399@www.carrickaland.com.au
SUMMARY:March quarter super guarantee due
DESCRIPTION:Super guarantee contributions should be made to a complying super fund or retirement savings account by today.
URL:https://www.carrickaland.com.au/event/march-quarter-super-guarantee-due-3/
END:VEVENT
BEGIN:VEVENT
DTSTART;VALUE=DATE:20210428
DTEND;VALUE=DATE:20210429
DTSTAMP:20210227T224117
CREATED:20210202T054030Z
LAST-MODIFIED:20210202T054030Z
UID:6834-1619568000-1619654399@www.carrickaland.com.au
SUMMARY:March quarterly BAS due
DESCRIPTION:
URL:https://www.carrickaland.com.au/event/march-quarterly-bas-due-2/
END:VEVENT
BEGIN:VEVENT
DTSTART;VALUE=DATE:20210428
DTEND;VALUE=DATE:20210429
DTSTAMP:20210227T224117
CREATED:20210202T054059Z
LAST-MODIFIED:20210202T054106Z
UID:6836-1619568000-1619654399@www.carrickaland.com.au
SUMMARY:March quarter PAYG instalment due
DESCRIPTION:You need to pay your instalment amount for the March quarter by today. If you receive an activity statement or are varying the instalment amount you may also need to lodge by today.
URL:https://www.carrickaland.com.au/event/march-quarter-payg-instalment-due-3/
END:VEVENT
BEGIN:VEVENT
DTSTART;VALUE=DATE:20210521
DTEND;VALUE=DATE:20210522
DTSTAMP:20210227T224117
CREATED:20210219T020612Z
LAST-MODIFIED:20210219T020612Z
UID:6883-1621555200-1621641599@www.carrickaland.com.au
SUMMARY:April monthly BAS due
DESCRIPTION:You need to lodge and pay by today. If you think you will have difficulty paying\, contact us to work out a payment plan.
URL:https://www.carrickaland.com.au/event/april-monthly-bas-due-2/
END:VEVENT
BEGIN:VEVENT
DTSTART;VALUE=DATE:20210528
DTEND;VALUE=DATE:20210529
DTSTAMP:20210227T224117
CREATED:20210219T020653Z
LAST-MODIFIED:20210219T021226Z
UID:6885-1622160000-1622246399@www.carrickaland.com.au
SUMMARY:March quarter SG charge statement due
DESCRIPTION:You must lodge and pay the super guarantee charge (SGC) statement today if you did not make your March quarter super guarantee payments by the due date.
URL:https://www.carrickaland.com.au/event/march-quarter-sg-charge-statement-due-2/
END:VEVENT
END:VCALENDAR